BEGIN:VCALENDAR
VERSION:2.0
PRODID:-//BikeWalkKC - ECPv6.15.20//NONSGML v1.0//EN
CALSCALE:GREGORIAN
METHOD:PUBLISH
X-WR-CALNAME:BikeWalkKC
X-ORIGINAL-URL:https://bikewalkkc.org
X-WR-CALDESC:Events for BikeWalkKC
REFRESH-INTERVAL;VALUE=DURATION:PT1H
X-Robots-Tag:noindex
X-PUBLISHED-TTL:PT1H
BEGIN:VTIMEZONE
TZID:America/Chicago
BEGIN:DAYLIGHT
TZOFFSETFROM:-0600
TZOFFSETTO:-0500
TZNAME:CDT
DTSTART:20150308T080000
END:DAYLIGHT
BEGIN:STANDARD
TZOFFSETFROM:-0500
TZOFFSETTO:-0600
TZNAME:CST
DTSTART:20151101T070000
END:STANDARD
BEGIN:DAYLIGHT
TZOFFSETFROM:-0600
TZOFFSETTO:-0500
TZNAME:CDT
DTSTART:20160313T080000
END:DAYLIGHT
BEGIN:STANDARD
TZOFFSETFROM:-0500
TZOFFSETTO:-0600
TZNAME:CST
DTSTART:20161106T070000
END:STANDARD
BEGIN:DAYLIGHT
TZOFFSETFROM:-0600
TZOFFSETTO:-0500
TZNAME:CDT
DTSTART:20170312T080000
END:DAYLIGHT
BEGIN:STANDARD
TZOFFSETFROM:-0500
TZOFFSETTO:-0600
TZNAME:CST
DTSTART:20171105T070000
END:STANDARD
END:VTIMEZONE
BEGIN:VEVENT
DTSTART;TZID=America/Chicago:20160411T110000
DTEND;TZID=America/Chicago:20160411T173000
DTSTAMP:20260421T063310
CREATED:20160331T134512Z
LAST-MODIFIED:20160331T134613Z
UID:3891-1460372400-1460395800@bikewalkkc.org
SUMMARY:Bike/Ped Day at the Missouri Capitol
DESCRIPTION:On April 11th Missourians who care about walking and biking will converge on the State Capitol for the annual Bike/Ped Capitol Day organized by the Missouri Bicycle and Pedestrian Federation. \nTravel with BikeWalkKC to Jefferson City\nBikeWalkKC is helping folks from the Kansas City area organize carpooling Jefferson City. If we get enough interest we may organize a van for everyone. \nSign up for carpool and/or van ride here.
URL:https://bikewalkkc.org/events/bikeped-day-at-the-missouri-capitol/
LOCATION:Missouri State Capitol Building\, 201 West Capitol Avenue\, Jefferson City\, MO\, United States
ATTACH;FMTTYPE=image/jpeg:https://bikewalkkc.org/wp-content/uploads/2016/01/MO-State-Capitol.jpg
ORGANIZER;CN="Missouri Bicycle and Pedestrian Federation":MAILTO:director@mobikefed.org
GEO:38.5792278;-92.172969
X-APPLE-STRUCTURED-LOCATION;VALUE=URI;X-ADDRESS=Missouri State Capitol Building 201 West Capitol Avenue Jefferson City MO United States;X-APPLE-RADIUS=500;X-TITLE=201 West Capitol Avenue:geo:-92.172969,38.5792278
END:VEVENT
END:VCALENDAR