BEGIN:VCALENDAR
VERSION:2.0
PRODID:-//BikeWalkKC - ECPv6.15.20//NONSGML v1.0//EN
CALSCALE:GREGORIAN
METHOD:PUBLISH
X-WR-CALNAME:BikeWalkKC
X-ORIGINAL-URL:https://bikewalkkc.org
X-WR-CALDESC:Events for BikeWalkKC
REFRESH-INTERVAL;VALUE=DURATION:PT1H
X-Robots-Tag:noindex
X-PUBLISHED-TTL:PT1H
BEGIN:VTIMEZONE
TZID:America/Chicago
BEGIN:DAYLIGHT
TZOFFSETFROM:-0600
TZOFFSETTO:-0500
TZNAME:CDT
DTSTART:20230312T080000
END:DAYLIGHT
BEGIN:STANDARD
TZOFFSETFROM:-0500
TZOFFSETTO:-0600
TZNAME:CST
DTSTART:20231105T070000
END:STANDARD
BEGIN:DAYLIGHT
TZOFFSETFROM:-0600
TZOFFSETTO:-0500
TZNAME:CDT
DTSTART:20240310T080000
END:DAYLIGHT
BEGIN:STANDARD
TZOFFSETFROM:-0500
TZOFFSETTO:-0600
TZNAME:CST
DTSTART:20241103T070000
END:STANDARD
BEGIN:DAYLIGHT
TZOFFSETFROM:-0600
TZOFFSETTO:-0500
TZNAME:CDT
DTSTART:20250309T080000
END:DAYLIGHT
BEGIN:STANDARD
TZOFFSETFROM:-0500
TZOFFSETTO:-0600
TZNAME:CST
DTSTART:20251102T070000
END:STANDARD
BEGIN:DAYLIGHT
TZOFFSETFROM:-0600
TZOFFSETTO:-0500
TZNAME:CDT
DTSTART:20260308T080000
END:DAYLIGHT
BEGIN:STANDARD
TZOFFSETFROM:-0500
TZOFFSETTO:-0600
TZNAME:CST
DTSTART:20261101T070000
END:STANDARD
END:VTIMEZONE
BEGIN:VEVENT
DTSTART;TZID=America/Chicago:20250514T180000
DTEND;TZID=America/Chicago:20250514T200000
DTSTAMP:20260424T033019
CREATED:20250513T212836Z
LAST-MODIFIED:20250513T212836Z
UID:33429-1747245600-1747252800@bikewalkkc.org
SUMMARY:Craft & Ride: Merriam Plaza
DESCRIPTION:Click to RSVP		\n			\n	\n\n\n \n\nAn event from BikeWalkKC and Johnson County Library\n\nNothing shows how much you love your bike like creating your own accessories! Join Maker Space staff and BikeWalkKC to learn how to work the machines and create unique bike flare. After the workshop\, we will head out on a short group ride to show it off.\n\n6-7 p.m. Use laser cutters and engravers to make a custom stamp to print your own pattern or share and trade stamps with others to create a dynamic collage!\n7-8 p.m. Show off your bike flare on a group ride! This is a no-drop ride\, which means that we all stick together and no one gets left behind. Participants need to sign a waiver\, and bring your own bike. Helmets and lights are required.\n\nClick the orange button above to learn more and sign up for this FREE event!
URL:https://bikewalkkc.org/events/craft-ride-merriam-plaza/
LOCATION:Merriam Plaza Library\, 6120 Slater Street\, Overland Park\, KS\, 66212
CATEGORIES:Bike Ride,BikeWalkKC Events,Classes,Johnson County,Metro-wide
ATTACH;FMTTYPE=image/png:https://bikewalkkc.org/wp-content/uploads/2024/04/Craft-Ride-Banner-e1712259981902.png
END:VEVENT
BEGIN:VEVENT
DTSTART;TZID=America/Chicago:20240520T180000
DTEND;TZID=America/Chicago:20240520T200000
DTSTAMP:20260424T033019
CREATED:20240404T195417Z
LAST-MODIFIED:20240620T145315Z
UID:31838-1716228000-1716235200@bikewalkkc.org
SUMMARY:Craft & Ride: Merriam Plaza Library
DESCRIPTION:Learn more		\n			\n	\n\n\n \n\nThis is a BikeWalkKC + Johnson County Library event \nDIY accessories let you show how much you love your bike while providing a creative outlet! Join local sewing artist Jordan Gomez\, BikeWalkKC and several area ride group leaders as we learn how to upcycle used material to create unique bike flare. After the workshop\, we will head out on a short group ride to show it off! \n6-7 p.m. Craft Workshop: Tool Roll A tool roll is a handy way to carry your hardware while out and about. Pockets keep everything in place and creating a tight roll ensures that you lose nothing and keep your equipment clean. In this workshop you’ll be introduced to simple sewing techniques to customize your roll. Material and instruction provided. \n7-8 p.m. Group Bicycle Ride Join us after the workshop as we show off our new pieces of bike flare. This is a no-drop group ride & participants need to sign a waiver\, as well as bring your own bike. Helmets required and lights required. \n\n**Do I need to know how to sew or use any of the Maker Space materials? How long is the bike ride? Find the answers to your questions\, volunteer opportunities\, and more on the event page.** \n\nFor inquiries about accessibility and accommodations\, please contact Johnson County Library at ask@jocolibrary.org or 913-826-4600 at least two weeks before the event. \nPara consultas sobre accesibilidad y adaptaciones\, contáctenos en ask@jocolibrary.org o al 913-826-4600 al menos dos semanas antes del evento. \nThis program is part of BikeWalkKC’s summer 2024 Craft & Ride series with Johnson County Library’s MakerSpace! Subscribe to BikeWalkKC’s mailing list and stay tuned for more Craft & Ride opportunities in June\, July\, and August.\n 
URL:https://bikewalkkc.org/events/craft-ride-merriam-plaza-library/
LOCATION:Merriam Plaza Library\, 6120 Slater Street\, Overland Park\, KS\, 66212
CATEGORIES:Bike Ride,BikeWalkKC Events,Classes,Johnson County
ATTACH;FMTTYPE=image/png:https://bikewalkkc.org/wp-content/uploads/2024/04/Craft-Ride-Banner-e1712259981902.png
ORGANIZER;CN="BikeWalkKC":MAILTO:info@bikewalkkc.org
END:VEVENT
END:VCALENDAR