BEGIN:VCALENDAR
VERSION:2.0
PRODID:-//BikeWalkKC - ECPv6.15.20//NONSGML v1.0//EN
CALSCALE:GREGORIAN
METHOD:PUBLISH
X-WR-CALNAME:BikeWalkKC
X-ORIGINAL-URL:https://bikewalkkc.org
X-WR-CALDESC:Events for BikeWalkKC
REFRESH-INTERVAL;VALUE=DURATION:PT1H
X-Robots-Tag:noindex
X-PUBLISHED-TTL:PT1H
BEGIN:VTIMEZONE
TZID:America/Chicago
BEGIN:DAYLIGHT
TZOFFSETFROM:-0600
TZOFFSETTO:-0500
TZNAME:CDT
DTSTART:20160313T080000
END:DAYLIGHT
BEGIN:STANDARD
TZOFFSETFROM:-0500
TZOFFSETTO:-0600
TZNAME:CST
DTSTART:20161106T070000
END:STANDARD
BEGIN:DAYLIGHT
TZOFFSETFROM:-0600
TZOFFSETTO:-0500
TZNAME:CDT
DTSTART:20170312T080000
END:DAYLIGHT
BEGIN:STANDARD
TZOFFSETFROM:-0500
TZOFFSETTO:-0600
TZNAME:CST
DTSTART:20171105T070000
END:STANDARD
BEGIN:DAYLIGHT
TZOFFSETFROM:-0600
TZOFFSETTO:-0500
TZNAME:CDT
DTSTART:20180311T080000
END:DAYLIGHT
BEGIN:STANDARD
TZOFFSETFROM:-0500
TZOFFSETTO:-0600
TZNAME:CST
DTSTART:20181104T070000
END:STANDARD
END:VTIMEZONE
BEGIN:VEVENT
DTSTART;TZID=America/Chicago:20170906T163000
DTEND;TZID=America/Chicago:20170906T180000
DTSTAMP:20260425T053637
CREATED:20170901T174242Z
LAST-MODIFIED:20170901T174242Z
UID:7287-1504715400-1504720800@bikewalkkc.org
SUMMARY:Downtown KCMO Bike Loop - Open House**
DESCRIPTION:Please join us for an open house to learn more about the Downtown Loop Bike Project! City staff will be on hand to detail the project and provide construction information and timelines. \nFor more information\, contact:\nBeth Breitenstein\nbeth.breitenstein@kcmo.org or\n816-513-2612
URL:https://bikewalkkc.org/events/downtown-kcmo-bike-loop-open-house/
LOCATION:Downtown Council\, 1000 Walnut\, Kansas City\, MO\, United States
ORGANIZER;CN="Bike KC":MAILTO:joseph.blankenship@kcmo.org
GEO:39.1021449;-94.5825038
X-APPLE-STRUCTURED-LOCATION;VALUE=URI;X-ADDRESS=Downtown Council 1000 Walnut Kansas City MO United States;X-APPLE-RADIUS=500;X-TITLE=1000 Walnut:geo:-94.5825038,39.1021449
END:VEVENT
END:VCALENDAR