BEGIN:VCALENDAR
VERSION:2.0
PRODID:-//BikeWalkKC - ECPv6.15.20//NONSGML v1.0//EN
CALSCALE:GREGORIAN
METHOD:PUBLISH
X-WR-CALNAME:BikeWalkKC
X-ORIGINAL-URL:https://bikewalkkc.org
X-WR-CALDESC:Events for BikeWalkKC
REFRESH-INTERVAL;VALUE=DURATION:PT1H
X-Robots-Tag:noindex
X-PUBLISHED-TTL:PT1H
BEGIN:VTIMEZONE
TZID:America/Chicago
BEGIN:DAYLIGHT
TZOFFSETFROM:-0600
TZOFFSETTO:-0500
TZNAME:CDT
DTSTART:20220313T080000
END:DAYLIGHT
BEGIN:STANDARD
TZOFFSETFROM:-0500
TZOFFSETTO:-0600
TZNAME:CST
DTSTART:20221106T070000
END:STANDARD
BEGIN:DAYLIGHT
TZOFFSETFROM:-0600
TZOFFSETTO:-0500
TZNAME:CDT
DTSTART:20230312T080000
END:DAYLIGHT
BEGIN:STANDARD
TZOFFSETFROM:-0500
TZOFFSETTO:-0600
TZNAME:CST
DTSTART:20231105T070000
END:STANDARD
BEGIN:DAYLIGHT
TZOFFSETFROM:-0600
TZOFFSETTO:-0500
TZNAME:CDT
DTSTART:20240310T080000
END:DAYLIGHT
BEGIN:STANDARD
TZOFFSETFROM:-0500
TZOFFSETTO:-0600
TZNAME:CST
DTSTART:20241103T070000
END:STANDARD
BEGIN:DAYLIGHT
TZOFFSETFROM:-0600
TZOFFSETTO:-0500
TZNAME:CDT
DTSTART:20250309T080000
END:DAYLIGHT
BEGIN:STANDARD
TZOFFSETFROM:-0500
TZOFFSETTO:-0600
TZNAME:CST
DTSTART:20251102T070000
END:STANDARD
END:VTIMEZONE
BEGIN:VEVENT
DTSTART;TZID=America/Chicago:20240207T183000
DTEND;TZID=America/Chicago:20240207T200000
DTSTAMP:20260423T050711
CREATED:20231213T163652Z
LAST-MODIFIED:20231213T163652Z
UID:30935-1707330600-1707336000@bikewalkkc.org
SUMMARY:BikeWalkKC Member Meeting
DESCRIPTION:RSVP		\n			\n	\n\n\n \n\nWe love our BikeWalkKC members! Join us for a party to celebrate a happier\, healthier Kansas City metro and the people who are making it happen (that’s you). \nHow to RSVP:\n\nCurrent BWKC members can use their BikeWalkKC member promo code to reveal FREE hidden tickets. Forgot your member code? Send us an email at info@bikewalkkc.org\, OR\nMake a donation in any amount to become a BikeWalkKC member or renew your membership\, OR\nVolunteer to help us set up\, greet guests\, or tear down.\n\nSip on free housemade softdrinks and beer from Crane Brewing\, enjoy treats from our local Guy’s Deli\, and meet BikeWalkKC staff\, Members\, and community partners. Then leave equipped for another year of building a culture of active living with your neighbors! \nThis is an event for BikeWalkKC Members and their loved ones. BikeWalkKC Members are supporters who have made a financial gift of any amount to BikeWalkKC in the last year. Your investment is building safer streets and a brighter future across the Kansas City metro. THANK YOU!
URL:https://bikewalkkc.org/events/bikewalkkc-member-meeting/
LOCATION:Crane Bewing\, 6515 Railroad Street\, Raytown\, MO\, 64133
CATEGORIES:BikeWalkKC Events,Eastern Jackson County,Local,Metro-wide
ATTACH;FMTTYPE=image/png:https://bikewalkkc.org/wp-content/uploads/2023/12/BWKC-Member-Meeting-2023-EB-e1702485162908.png
ORGANIZER;CN="BikeWalkKC":MAILTO:info@bikewalkkc.org
END:VEVENT
BEGIN:VEVENT
DTSTART;TZID=America/Chicago:20231214T173000
DTEND;TZID=America/Chicago:20231214T200000
DTSTAMP:20260423T050711
CREATED:20231205T174529Z
LAST-MODIFIED:20231205T174734Z
UID:30880-1702575000-1702584000@bikewalkkc.org
SUMMARY:Transit Oriented Drinks at Crane Brewing - KC Regional Transit Alliance
DESCRIPTION:RSVP now		\n			\n	\n\n\n \n\nThis is an event from the Kansas City Regional Transit Alliance \nCome have drinks with other transit supporters in the KC Region! Kansas City Regional Transit Alliance invites you to Transit Oriented Drinks at Crane Brewing on Thursday\, December 14th. Thank you to Transystems for sponsoring this event. \n 
URL:https://bikewalkkc.org/events/transit-oriented-drinks-at-crane-brewing-kc-regional-transit-alliance/
LOCATION:Crane Bewing\, 6515 Railroad Street\, Raytown\, MO\, 64133
CATEGORIES:Community Event
ATTACH;FMTTYPE=image/png:https://bikewalkkc.org/wp-content/uploads/2023/12/KCRTA-logo.png
ORGANIZER;CN="Kansas City Regional Transit Alliance":MAILTO:chair@kcrta.org
END:VEVENT
END:VCALENDAR