BEGIN:VCALENDAR
VERSION:2.0
PRODID:-//BikeWalkKC - ECPv6.15.20//NONSGML v1.0//EN
CALSCALE:GREGORIAN
METHOD:PUBLISH
X-WR-CALNAME:BikeWalkKC
X-ORIGINAL-URL:https://bikewalkkc.org
X-WR-CALDESC:Events for BikeWalkKC
REFRESH-INTERVAL;VALUE=DURATION:PT1H
X-Robots-Tag:noindex
X-PUBLISHED-TTL:PT1H
BEGIN:VTIMEZONE
TZID:America/Chicago
BEGIN:DAYLIGHT
TZOFFSETFROM:-0600
TZOFFSETTO:-0500
TZNAME:CDT
DTSTART:20150308T080000
END:DAYLIGHT
BEGIN:STANDARD
TZOFFSETFROM:-0500
TZOFFSETTO:-0600
TZNAME:CST
DTSTART:20151101T070000
END:STANDARD
BEGIN:DAYLIGHT
TZOFFSETFROM:-0600
TZOFFSETTO:-0500
TZNAME:CDT
DTSTART:20160313T080000
END:DAYLIGHT
BEGIN:STANDARD
TZOFFSETFROM:-0500
TZOFFSETTO:-0600
TZNAME:CST
DTSTART:20161106T070000
END:STANDARD
BEGIN:DAYLIGHT
TZOFFSETFROM:-0600
TZOFFSETTO:-0500
TZNAME:CDT
DTSTART:20170312T080000
END:DAYLIGHT
BEGIN:STANDARD
TZOFFSETFROM:-0500
TZOFFSETTO:-0600
TZNAME:CST
DTSTART:20171105T070000
END:STANDARD
END:VTIMEZONE
BEGIN:VEVENT
DTSTART;TZID=America/Chicago:20160620T163000
DTEND;TZID=America/Chicago:20160620T183000
DTSTAMP:20260419T091713
CREATED:20160613T205129Z
LAST-MODIFIED:20160616T172651Z
UID:4150-1466440200-1466447400@bikewalkkc.org
SUMMARY:First Day of Summer Popsicle Stop benefiting Women Bike KC
DESCRIPTION:Icicle Cycle is joining forces with BikeWalkKC again to celebrate the first day of summer! We’ll be serving up popsicles and refreshing drinks out of the Icicle Cycle bike trailer at the Northeast corner of Pennsylvania Ave. and Valentine Rd. in the Valentine neighborhood in Midtown KCMO from 4:30-6:30 p.m. on Monday\, June 20th. \nPopsicles and drinks will be free\, but all donations will go toward BikeWalkKC’s Women Bike KC initiative\, which provides education\, resources and encouragement to get more women on bicycles. \nWe hope you’ll join us!
URL:https://bikewalkkc.org/events/first-day-of-summer-popsicle-stop-benefiting-women-bike-kc/
LOCATION:Corner of Pennsylvania and Valentine\, Kansas City\, MO\, 64109\, United States
CATEGORIES:Women Bike KC
ATTACH;FMTTYPE=image/png:https://bikewalkkc.org/wp-content/uploads/2016/06/13412943_1760399247531170_9154739217072502580_n.png
GEO:39.0703574;-94.5676009
END:VEVENT
END:VCALENDAR