BEGIN:VCALENDAR
VERSION:2.0
PRODID:-//BikeWalkKC - ECPv6.15.20//NONSGML v1.0//EN
CALSCALE:GREGORIAN
METHOD:PUBLISH
X-WR-CALNAME:BikeWalkKC
X-ORIGINAL-URL:https://bikewalkkc.org
X-WR-CALDESC:Events for BikeWalkKC
REFRESH-INTERVAL;VALUE=DURATION:PT1H
X-Robots-Tag:noindex
X-PUBLISHED-TTL:PT1H
BEGIN:VTIMEZONE
TZID:America/Chicago
BEGIN:DAYLIGHT
TZOFFSETFROM:-0600
TZOFFSETTO:-0500
TZNAME:CDT
DTSTART:20250309T080000
END:DAYLIGHT
BEGIN:STANDARD
TZOFFSETFROM:-0500
TZOFFSETTO:-0600
TZNAME:CST
DTSTART:20251102T070000
END:STANDARD
BEGIN:DAYLIGHT
TZOFFSETFROM:-0600
TZOFFSETTO:-0500
TZNAME:CDT
DTSTART:20260308T080000
END:DAYLIGHT
BEGIN:STANDARD
TZOFFSETFROM:-0500
TZOFFSETTO:-0600
TZNAME:CST
DTSTART:20261101T070000
END:STANDARD
BEGIN:DAYLIGHT
TZOFFSETFROM:-0600
TZOFFSETTO:-0500
TZNAME:CDT
DTSTART:20270314T080000
END:DAYLIGHT
BEGIN:STANDARD
TZOFFSETFROM:-0500
TZOFFSETTO:-0600
TZNAME:CST
DTSTART:20271107T070000
END:STANDARD
END:VTIMEZONE
BEGIN:VEVENT
DTSTART;TZID=America/Chicago:20260425T093000
DTEND;TZID=America/Chicago:20260425T120000
DTSTAMP:20260424T083532
CREATED:20260414T203122Z
LAST-MODIFIED:20260414T203412Z
UID:35549-1777109400-1777118400@bikewalkkc.org
SUMMARY:Earth Day Clean Up on the HOA
DESCRIPTION:Click to register		\n			\n	\n\n\n	An event from Visit Kansas City Kansas \nPedal through 8 miles of rich history from Downtown KCK to Quindaro\, where every stop tells a story and every bite feeds your soul. Discover iconic landmarks\, hear untold tales\, and savor authentic soul food favorites. \n  May 2 - 10:30 AM refreshments | 11 AM ride \n  Start: Hilton Garden Inn Kansas City/Kansas parking lot \n  Ages 11+ \n  Register by April 26 - Spots are limited \n  Bikes available with registration \n 
URL:https://bikewalkkc.org/events/earth-day-clean-up-on-the-hoa/
CATEGORIES:Community Event,KCMO Central-South,Northland
ATTACH;FMTTYPE=image/png:https://bikewalkkc.org/wp-content/uploads/2026/04/Screenshot-From-2026-04-14-15-29-29-e1776198597581.png
ORGANIZER;CN="VeloGarage and Tap House":MAILTO:VELOGARAGEKC@gmail.com
END:VEVENT
BEGIN:VEVENT
DTSTART;TZID=America/Chicago:20260430T173000
DTEND;TZID=America/Chicago:20260430T190000
DTSTAMP:20260424T083532
CREATED:20260417T165919Z
LAST-MODIFIED:20260417T171043Z
UID:35568-1777570200-1777575600@bikewalkkc.org
SUMMARY:Bikeways & Trails Plan open house - Central KCMO
DESCRIPTION:Click to register		\n			\n	\n\n\n	An event from Visit Kansas City Kansas \nPedal through 8 miles of rich history from Downtown KCK to Quindaro\, where every stop tells a story and every bite feeds your soul. Discover iconic landmarks\, hear untold tales\, and savor authentic soul food favorites. \n  May 2 - 10:30 AM refreshments | 11 AM ride \n  Start: Hilton Garden Inn Kansas City/Kansas parking lot \n  Ages 11+ \n  Register by April 26 - Spots are limited \n  Bikes available with registration \n 
URL:https://bikewalkkc.org/events/bikeways-trails-plan-open-house-central-kcmo/
CATEGORIES:Advocacy,Community Event,KCMO Central-South,Local
ATTACH;FMTTYPE=image/png:https://bikewalkkc.org/wp-content/uploads/2026/04/Screenshot-From-2026-04-10-10-51-26-e1776445068674.png
ORGANIZER;CN="City of Kansas City%2C MO":MAILTO:pubworks@kcmo.org
END:VEVENT
BEGIN:VEVENT
DTSTART;VALUE=DATE:20260502
DTEND;VALUE=DATE:20260503
DTSTAMP:20260424T083532
CREATED:20260422T201357Z
LAST-MODIFIED:20260422T201357Z
UID:35634-1777680000-1777766399@bikewalkkc.org
SUMMARY:Soulful Spin & Eats
DESCRIPTION:Click to register		\n			\n	\n\n\n	An event from Visit Kansas City Kansas \nPedal through 8 miles of rich history from Downtown KCK to Quindaro\, where every stop tells a story and every bite feeds your soul. Discover iconic landmarks\, hear untold tales\, and savor authentic soul food favorites. \n  May 2 - 10:30 AM refreshments | 11 AM ride \n  Start: Hilton Garden Inn Kansas City/Kansas parking lot \n  Ages 11+ \n  Register by April 26 - Spots are limited \n  Bikes available with registration \n 
URL:https://bikewalkkc.org/events/soulful-spin-eats/
CATEGORIES:Bike Ride,Community Event,Wyandotte County
ATTACH;FMTTYPE=image/jpeg:https://bikewalkkc.org/wp-content/uploads/2026/04/Soulful-Spin-2026-e1776888736161.jpg
END:VEVENT
BEGIN:VEVENT
DTSTART;TZID=America/Chicago:20260503T100000
DTEND;TZID=America/Chicago:20260503T120000
DTSTAMP:20260424T083532
CREATED:20260408T205207Z
LAST-MODIFIED:20260408T205524Z
UID:35426-1777802400-1777809600@bikewalkkc.org
SUMMARY:Trolley Track ride with KC Family Bike Ride
DESCRIPTION:Click to register		\n			\n	\n\n\n	An event from Visit Kansas City Kansas \nPedal through 8 miles of rich history from Downtown KCK to Quindaro\, where every stop tells a story and every bite feeds your soul. Discover iconic landmarks\, hear untold tales\, and savor authentic soul food favorites. \n  May 2 - 10:30 AM refreshments | 11 AM ride \n  Start: Hilton Garden Inn Kansas City/Kansas parking lot \n  Ages 11+ \n  Register by April 26 - Spots are limited \n  Bikes available with registration \n 
URL:https://bikewalkkc.org/events/trolley-track-ride-with-kc-family-bike-ride/2026-05-03/
CATEGORIES:Bike Ride,Community Event,KCMO Central-South
ATTACH;FMTTYPE=image/jpeg:https://bikewalkkc.org/wp-content/uploads/2024/05/KC-Family-Bike-Ride-e1714683715438.jpeg
END:VEVENT
BEGIN:VEVENT
DTSTART;TZID=America/Chicago:20260504T173000
DTEND;TZID=America/Chicago:20260504T190000
DTSTAMP:20260424T083532
CREATED:20260417T170457Z
LAST-MODIFIED:20260417T170958Z
UID:35574-1777915800-1777921200@bikewalkkc.org
SUMMARY:Bikeways & Trails Plan open house - Northland
DESCRIPTION:Click to register		\n			\n	\n\n\n	An event from Visit Kansas City Kansas \nPedal through 8 miles of rich history from Downtown KCK to Quindaro\, where every stop tells a story and every bite feeds your soul. Discover iconic landmarks\, hear untold tales\, and savor authentic soul food favorites. \n  May 2 - 10:30 AM refreshments | 11 AM ride \n  Start: Hilton Garden Inn Kansas City/Kansas parking lot \n  Ages 11+ \n  Register by April 26 - Spots are limited \n  Bikes available with registration \n 
URL:https://bikewalkkc.org/events/bikeways-trails-plan-open-house-northland/
CATEGORIES:Advocacy,Community Event,Local,Northland
ATTACH;FMTTYPE=image/png:https://bikewalkkc.org/wp-content/uploads/2026/04/Screenshot-From-2026-04-10-10-51-26-e1776445068674.png
ORGANIZER;CN="City of Kansas City%2C MO":MAILTO:pubworks@kcmo.org
END:VEVENT
BEGIN:VEVENT
DTSTART;VALUE=DATE:20260506
DTEND;VALUE=DATE:20260507
DTSTAMP:20260424T083532
CREATED:20260313T184845Z
LAST-MODIFIED:20260313T184846Z
UID:35231-1778025600-1778111999@bikewalkkc.org
SUMMARY:National Bike to School Day
DESCRIPTION:Click to register		\n			\n	\n\n\n	An event from Visit Kansas City Kansas \nPedal through 8 miles of rich history from Downtown KCK to Quindaro\, where every stop tells a story and every bite feeds your soul. Discover iconic landmarks\, hear untold tales\, and savor authentic soul food favorites. \n  May 2 - 10:30 AM refreshments | 11 AM ride \n  Start: Hilton Garden Inn Kansas City/Kansas parking lot \n  Ages 11+ \n  Register by April 26 - Spots are limited \n  Bikes available with registration \n 
URL:https://bikewalkkc.org/events/national-bike-to-school-day/
CATEGORIES:Bike Ride,BikeWalkKC Events,Local,Metro-wide
ATTACH;FMTTYPE=image/jpeg:https://bikewalkkc.org/wp-content/uploads/2015/05/Whittier-SRTS-Bike-to-School-2015-e1680904423239.jpeg
END:VEVENT
BEGIN:VEVENT
DTSTART;VALUE=DATE:20260509
DTEND;VALUE=DATE:20260510
DTSTAMP:20260424T083532
CREATED:20260313T190214Z
LAST-MODIFIED:20260313T190215Z
UID:35238-1778284800-1778371199@bikewalkkc.org
SUMMARY:BLAST with City of Fairway
DESCRIPTION:Click to register		\n			\n	\n\n\n	An event from Visit Kansas City Kansas \nPedal through 8 miles of rich history from Downtown KCK to Quindaro\, where every stop tells a story and every bite feeds your soul. Discover iconic landmarks\, hear untold tales\, and savor authentic soul food favorites. \n  May 2 - 10:30 AM refreshments | 11 AM ride \n  Start: Hilton Garden Inn Kansas City/Kansas parking lot \n  Ages 11+ \n  Register by April 26 - Spots are limited \n  Bikes available with registration \n 
URL:https://bikewalkkc.org/events/blast-with-city-of-fairway/
CATEGORIES:BikeWalkKC Events,Classes,Johnson County,Local
ATTACH;FMTTYPE=image/jpeg:https://bikewalkkc.org/wp-content/uploads/2023/12/Eugene-Ware-2023-BLAST-scaled-e1702919217185.jpg
END:VEVENT
BEGIN:VEVENT
DTSTART;TZID=America/Chicago:20260511T173000
DTEND;TZID=America/Chicago:20260511T190000
DTSTAMP:20260424T083532
CREATED:20260417T170916Z
LAST-MODIFIED:20260417T170916Z
UID:35578-1778520600-1778526000@bikewalkkc.org
SUMMARY:Bikeways & Trails Plan open house - South KCMO
DESCRIPTION:Click to register		\n			\n	\n\n\n	An event from Visit Kansas City Kansas \nPedal through 8 miles of rich history from Downtown KCK to Quindaro\, where every stop tells a story and every bite feeds your soul. Discover iconic landmarks\, hear untold tales\, and savor authentic soul food favorites. \n  May 2 - 10:30 AM refreshments | 11 AM ride \n  Start: Hilton Garden Inn Kansas City/Kansas parking lot \n  Ages 11+ \n  Register by April 26 - Spots are limited \n  Bikes available with registration \n 
URL:https://bikewalkkc.org/events/bikeways-trails-plan-open-house-south-kcmo/
CATEGORIES:Advocacy,Community Event,KCMO Central-South,Local
ATTACH;FMTTYPE=image/png:https://bikewalkkc.org/wp-content/uploads/2026/04/Screenshot-From-2026-04-10-10-51-26-e1776445068674.png
ORGANIZER;CN="City of Kansas City%2C MO":MAILTO:pubworks@kcmo.org
END:VEVENT
END:VCALENDAR